BEGIN:VCALENDAR
VERSION:2.0
PRODID:-//Filharmonia Koszalińska im. Stanisława Moniuszki - ECPv6.15.20//NONSGML v1.0//EN
CALSCALE:GREGORIAN
METHOD:PUBLISH
X-ORIGINAL-URL:https://filharmoniakoszalinska.pl
X-WR-CALDESC:Wydarzenia dla Filharmonia Koszalińska im. Stanisława Moniuszki
REFRESH-INTERVAL;VALUE=DURATION:PT1H
X-Robots-Tag:noindex
X-PUBLISHED-TTL:PT1H
BEGIN:VTIMEZONE
TZID:Europe/Warsaw
BEGIN:DAYLIGHT
TZOFFSETFROM:+0100
TZOFFSETTO:+0200
TZNAME:CEST
DTSTART:20240331T010000
END:DAYLIGHT
BEGIN:STANDARD
TZOFFSETFROM:+0200
TZOFFSETTO:+0100
TZNAME:CET
DTSTART:20241027T010000
END:STANDARD
BEGIN:DAYLIGHT
TZOFFSETFROM:+0100
TZOFFSETTO:+0200
TZNAME:CEST
DTSTART:20250330T010000
END:DAYLIGHT
BEGIN:STANDARD
TZOFFSETFROM:+0200
TZOFFSETTO:+0100
TZNAME:CET
DTSTART:20251026T010000
END:STANDARD
BEGIN:DAYLIGHT
TZOFFSETFROM:+0100
TZOFFSETTO:+0200
TZNAME:CEST
DTSTART:20260329T010000
END:DAYLIGHT
BEGIN:STANDARD
TZOFFSETFROM:+0200
TZOFFSETTO:+0100
TZNAME:CET
DTSTART:20261025T010000
END:STANDARD
END:VTIMEZONE
BEGIN:VEVENT
DTSTART;TZID=Europe/Warsaw:20251220T190000
DTEND;TZID=Europe/Warsaw:20251220T203000
DTSTAMP:20260423T102851
CREATED:20250804T064717Z
LAST-MODIFIED:20250804T064717Z
UID:25659-1766257200-1766262600@filharmoniakoszalinska.pl
SUMMARY:„Kolędowanie z Enejem”
DESCRIPTION:data:\n20 grudnia 2025 r.\, godz. 19 \nbilety:\nI STREFA – 119 zł\nII STREFA – 109 zł
URL:https://filharmoniakoszalinska.pl/wydarzenie/koledowanie-z-enejem/
LOCATION:Filharmonia Koszalińska im. Stanisława Moniuszki\, Piastowska 2\, Koszalin\, Poland
CATEGORIES:wydarzenia agencyjne
ATTACH;FMTTYPE=image/jpeg:https://filharmoniakoszalinska.pl/wp-content/uploads/2025/08/koledowanie-enej-poprawny-rozmiar2025.jpg
END:VEVENT
END:VCALENDAR