BEGIN:VCALENDAR
VERSION:2.0
PRODID:-//Filharmonia Koszalińska im. Stanisława Moniuszki - ECPv6.15.20//NONSGML v1.0//EN
CALSCALE:GREGORIAN
METHOD:PUBLISH
X-WR-CALNAME:Filharmonia Koszalińska im. Stanisława Moniuszki
X-ORIGINAL-URL:https://filharmoniakoszalinska.pl
X-WR-CALDESC:Wydarzenia dla Filharmonia Koszalińska im. Stanisława Moniuszki
REFRESH-INTERVAL;VALUE=DURATION:PT1H
X-Robots-Tag:noindex
X-PUBLISHED-TTL:PT1H
BEGIN:VTIMEZONE
TZID:Europe/Warsaw
BEGIN:DAYLIGHT
TZOFFSETFROM:+0100
TZOFFSETTO:+0200
TZNAME:CEST
DTSTART:20250330T010000
END:DAYLIGHT
BEGIN:STANDARD
TZOFFSETFROM:+0200
TZOFFSETTO:+0100
TZNAME:CET
DTSTART:20251026T010000
END:STANDARD
BEGIN:DAYLIGHT
TZOFFSETFROM:+0100
TZOFFSETTO:+0200
TZNAME:CEST
DTSTART:20260329T010000
END:DAYLIGHT
BEGIN:STANDARD
TZOFFSETFROM:+0200
TZOFFSETTO:+0100
TZNAME:CET
DTSTART:20261025T010000
END:STANDARD
BEGIN:DAYLIGHT
TZOFFSETFROM:+0100
TZOFFSETTO:+0200
TZNAME:CEST
DTSTART:20270328T010000
END:DAYLIGHT
BEGIN:STANDARD
TZOFFSETFROM:+0200
TZOFFSETTO:+0100
TZNAME:CET
DTSTART:20271031T010000
END:STANDARD
END:VTIMEZONE
BEGIN:VEVENT
DTSTART;TZID=Europe/Warsaw:20260424T183000
DTEND;TZID=Europe/Warsaw:20260424T203000
DTSTAMP:20260424T121037
CREATED:20251231T094137Z
LAST-MODIFIED:20260413T120328Z
UID:58104-1777055400-1777062600@filharmoniakoszalinska.pl
SUMMARY:koncert symfoniczny
DESCRIPTION:data:\n24 kwietnia 2026 r. (piątek)\, godz. 18.30 \nbilety:\nI STREFA – 45 zł (ulgowy 40 zł)\nII STREFA – 40 zł (ulgowy 35 zł) \nkup bilet on-line \nwykonawcy:\nNatan Dondalski – skrzypce\nPiotr Wacławik – dyrygent\norkiestra Filharmonii Koszalińskiej\nAndrzej Zborowski – słowo wiążące \nprogram:\nLudomir Różycki – Scherzo symfoniczne Stańczyk\nStefan Johannes Walter – Koncert skrzypcowy (prawykonanie)\nCarl Maria von Weber – uwertura do sztuki Turandot\nPaul Hindemith – Symfoniczne metamorfozy na temat Karola Marii von Webera
URL:https://filharmoniakoszalinska.pl/wydarzenie/koncert-symfoniczny-34/
LOCATION:Filharmonia Koszalińska im. Stanisława Moniuszki\, Piastowska 2\, Koszalin\, Poland
CATEGORIES:Filharmonia Koszalińska
ATTACH;FMTTYPE=image/jpeg:https://filharmoniakoszalinska.pl/wp-content/uploads/2025/12/24.04.2026-tlo.jpg
END:VEVENT
END:VCALENDAR