BEGIN:VCALENDAR
VERSION:2.0
PRODID:-//Filharmonia Koszalińska im. Stanisława Moniuszki - ECPv6.15.20//NONSGML v1.0//EN
CALSCALE:GREGORIAN
METHOD:PUBLISH
X-WR-CALNAME:Filharmonia Koszalińska im. Stanisława Moniuszki
X-ORIGINAL-URL:https://filharmoniakoszalinska.pl
X-WR-CALDESC:Wydarzenia dla Filharmonia Koszalińska im. Stanisława Moniuszki
REFRESH-INTERVAL;VALUE=DURATION:PT1H
X-Robots-Tag:noindex
X-PUBLISHED-TTL:PT1H
BEGIN:VTIMEZONE
TZID:Europe/Warsaw
BEGIN:DAYLIGHT
TZOFFSETFROM:+0100
TZOFFSETTO:+0200
TZNAME:CEST
DTSTART:20250330T010000
END:DAYLIGHT
BEGIN:STANDARD
TZOFFSETFROM:+0200
TZOFFSETTO:+0100
TZNAME:CET
DTSTART:20251026T010000
END:STANDARD
BEGIN:DAYLIGHT
TZOFFSETFROM:+0100
TZOFFSETTO:+0200
TZNAME:CEST
DTSTART:20260329T010000
END:DAYLIGHT
BEGIN:STANDARD
TZOFFSETFROM:+0200
TZOFFSETTO:+0100
TZNAME:CET
DTSTART:20261025T010000
END:STANDARD
BEGIN:DAYLIGHT
TZOFFSETFROM:+0100
TZOFFSETTO:+0200
TZNAME:CEST
DTSTART:20270328T010000
END:DAYLIGHT
BEGIN:STANDARD
TZOFFSETFROM:+0200
TZOFFSETTO:+0100
TZNAME:CET
DTSTART:20271031T010000
END:STANDARD
END:VTIMEZONE
BEGIN:VEVENT
DTSTART;TZID=Europe/Warsaw:20260123T190000
DTEND;TZID=Europe/Warsaw:20260123T210000
DTSTAMP:20260421T105425
CREATED:20260113T133622Z
LAST-MODIFIED:20260113T133623Z
UID:62611-1769194800-1769202000@filharmoniakoszalinska.pl
SUMMARY:„Zwariowany świat muzyki filmowej” - koncert w Sławieńskim Domu Kultury
DESCRIPTION:data:\n23 stycznia 2026 r. (piątek)\, godz. 19 \nwykonawcy:\nKatarzyna Dondalska – sopran\nMaksym Dondalski – dyrygent\norkiestra Filharmonii Koszalińskiej \nprogram:\nHenry Mancini – „W hołdzie dla Manciniego”\nHenry Mancini – walce z filmu „Śniadanie u Tiffany’ego”\nHenry Mancini – „Le Jazz Hot” z filmu „Viktor/Viktoria”\nElmer Bernstein – „Go West” z filmu „Siedmiu wspaniałych”\nHenry Mancini  – „Crazy World” z filmu „Viktor/Viktoria”\nJohn Barry – muzyka z filmu „Agent 007”\nHenry Mancini – „You & Me” z filmu „Viktor/Viktoria”\nHenry Mancini – „It had better be tonight”\nJohn Williams – „W hołdzie dla Johna Williamsa”\nHenry Mancini – muzyka z filmu „Moment To Moment”\nLalo Schifrin – muzyka z filmu „Mission impossible”\\nHerman Hupfeld – „As time goes by” z filmu „Casablanca”\nHenry Mancini – muzyka z filmu „Ulubiony sport mężczyzn”\nGino Pauli – „Senza Fine”\nKlaus Badelt – muzyka z filmu „Piraci z Karaibów”\nFrederick Loewe – „Przetańczyć całą noc” z filmu „My fair Lady” \nkup bilet on-line \n  \nDziałalność Filharmonii Koszalińskiej im. Stanisława Moniuszki jest dofinansowana ze środków Województwa Zachodniopomorskiego.
URL:https://filharmoniakoszalinska.pl/wydarzenie/zwariowany-swiat-muzyki-filmowej-koncert-w-slawienskim-domu-kultury/
LOCATION:Sławieński Dom Kultury\, ul. Cieszkowskiego 2\, Sławno\, 76-100
CATEGORIES:Filharmonia Koszalińska
ATTACH;FMTTYPE=image/jpeg:https://filharmoniakoszalinska.pl/wp-content/uploads/2026/01/23.01.2026-tlo.jpg
END:VEVENT
END:VCALENDAR