BEGIN:VCALENDAR
VERSION:2.0
PRODID:-//Filharmonia Koszalińska im. Stanisława Moniuszki - ECPv6.15.20//NONSGML v1.0//EN
CALSCALE:GREGORIAN
METHOD:PUBLISH
X-WR-CALNAME:Filharmonia Koszalińska im. Stanisława Moniuszki
X-ORIGINAL-URL:https://filharmoniakoszalinska.pl
X-WR-CALDESC:Wydarzenia dla Filharmonia Koszalińska im. Stanisława Moniuszki
REFRESH-INTERVAL;VALUE=DURATION:PT1H
X-Robots-Tag:noindex
X-PUBLISHED-TTL:PT1H
BEGIN:VTIMEZONE
TZID:Europe/Warsaw
BEGIN:DAYLIGHT
TZOFFSETFROM:+0100
TZOFFSETTO:+0200
TZNAME:CEST
DTSTART:20240331T010000
END:DAYLIGHT
BEGIN:STANDARD
TZOFFSETFROM:+0200
TZOFFSETTO:+0100
TZNAME:CET
DTSTART:20241027T010000
END:STANDARD
BEGIN:DAYLIGHT
TZOFFSETFROM:+0100
TZOFFSETTO:+0200
TZNAME:CEST
DTSTART:20250330T010000
END:DAYLIGHT
BEGIN:STANDARD
TZOFFSETFROM:+0200
TZOFFSETTO:+0100
TZNAME:CET
DTSTART:20251026T010000
END:STANDARD
BEGIN:DAYLIGHT
TZOFFSETFROM:+0100
TZOFFSETTO:+0200
TZNAME:CEST
DTSTART:20260329T010000
END:DAYLIGHT
BEGIN:STANDARD
TZOFFSETFROM:+0200
TZOFFSETTO:+0100
TZNAME:CET
DTSTART:20261025T010000
END:STANDARD
END:VTIMEZONE
BEGIN:VEVENT
DTSTART;TZID=Europe/Warsaw:20250509T183000
DTEND;TZID=Europe/Warsaw:20250509T203000
DTSTAMP:20260422T021930
CREATED:20241021T075318Z
LAST-MODIFIED:20250326T124258Z
UID:6205-1746815400-1746822600@filharmoniakoszalinska.pl
SUMMARY:koncert symfoniczny
DESCRIPTION:Koncert jest współorganizowany przez Narodowy Instytut Muzyki i Tańca w ramach programu „Muzyk – rezydent”\, finansowanego ze środków Ministra Kultury i Dziedzictwa Narodowego. \ndata: \n9 maja 2025 (piątek)\, godz. 18.30 \nwykonawcy: \nPrzemysław Fiugajski – dyrygent \nJustyna Gęsicka – mezzosopran \norkiestra Filharmonii Koszalińskiej \nprogram: \nStanisław Moniuszko – Uwertura do opery „Hrabina” \nStanisław Moniuszko – Aria Broni „O\, mój dziaduniu” z opery „Hrabina” \nStanisław Moniuszko – muzyka baletowa „Zefir goniący Florę” z opery „Hrabina” \nStanisław Moniuszko – Piosnka Broni „Szemrze strumyk pod jaworem” z opery „Hrabina” \nStanisław Moniuszko – Piosnka Broni „Goździk\, urok” z opery „Hrabina” \nStanisław Moniuszko – muzyka baletowa „Taniec satyrów” z opery „Hrabina” \nStanisław Moniuszko – Intrada do opery „Straszny dwór” \nStanisław Moniuszko – Aria Cześnikowej „Z tej strony Powiśla dziewczątek bez liku” z opery „Straszny dwór” \nStanisław Moniuszko – Dumka Jadwigi „Biegnie słuchać w lasy\, w knieje” z opery „Straszny dwór” \nStanisław Moniuszko – Uwertura fantastyczna „Bajka”
URL:https://filharmoniakoszalinska.pl/wydarzenie/koncert-symfoniczny-18/
LOCATION:Filharmonia Koszalińska im. Stanisława Moniuszki\, Piastowska 2\, Koszalin\, Poland
CATEGORIES:Filharmonia Koszalińska
ATTACH;FMTTYPE=image/jpeg:https://filharmoniakoszalinska.pl/wp-content/uploads/2024/10/9.05.2025.jpg
END:VEVENT
END:VCALENDAR