BEGIN:VCALENDAR
VERSION:2.0
PRODID:-//Filharmonia Koszalińska im. Stanisława Moniuszki - ECPv6.15.20//NONSGML v1.0//EN
CALSCALE:GREGORIAN
METHOD:PUBLISH
X-WR-CALNAME:Filharmonia Koszalińska im. Stanisława Moniuszki
X-ORIGINAL-URL:https://filharmoniakoszalinska.pl
X-WR-CALDESC:Wydarzenia dla Filharmonia Koszalińska im. Stanisława Moniuszki
REFRESH-INTERVAL;VALUE=DURATION:PT1H
X-Robots-Tag:noindex
X-PUBLISHED-TTL:PT1H
BEGIN:VTIMEZONE
TZID:Europe/Warsaw
BEGIN:DAYLIGHT
TZOFFSETFROM:+0100
TZOFFSETTO:+0200
TZNAME:CEST
DTSTART:20230326T010000
END:DAYLIGHT
BEGIN:STANDARD
TZOFFSETFROM:+0200
TZOFFSETTO:+0100
TZNAME:CET
DTSTART:20231029T010000
END:STANDARD
BEGIN:DAYLIGHT
TZOFFSETFROM:+0100
TZOFFSETTO:+0200
TZNAME:CEST
DTSTART:20240331T010000
END:DAYLIGHT
BEGIN:STANDARD
TZOFFSETFROM:+0200
TZOFFSETTO:+0100
TZNAME:CET
DTSTART:20241027T010000
END:STANDARD
BEGIN:DAYLIGHT
TZOFFSETFROM:+0100
TZOFFSETTO:+0200
TZNAME:CEST
DTSTART:20250330T010000
END:DAYLIGHT
BEGIN:STANDARD
TZOFFSETFROM:+0200
TZOFFSETTO:+0100
TZNAME:CET
DTSTART:20251026T010000
END:STANDARD
END:VTIMEZONE
BEGIN:VEVENT
DTSTART;TZID=Europe/Warsaw:20241206T183000
DTEND;TZID=Europe/Warsaw:20241206T203000
DTSTAMP:20260420T023643
CREATED:20240705T093541Z
LAST-MODIFIED:20241002T123901Z
UID:2736-1733509800-1733517000@filharmoniakoszalinska.pl
SUMMARY:koncert symfoniczny
DESCRIPTION:Koncert jest współorganizowany przez Narodowy Instytut Muzyki i Tańca w ramach programu „Muzyk – rezydent”\, finansowanego ze środków Ministra Kultury i Dziedzictwa Narodowego. \ndata: \n6 grudnia 2024 (piątek)\, godz. 18.30 \nwykonawcy: \nRoman Rewakowicz – dyrygent \nOksana Nikitiuk – mezzosopran \norkiestra Filharmonii Koszalińskiej \nprogram: \nOleksandr Kozarenko – „Irmologion” na orkiestrę smyczkową \nOleh Kywa – III Symfonia kameralna na głos i orkiestrę kameralną do słów Tarasa Szewczenki \nHector Berlioz – Symfonia fantastyczna op. 14
URL:https://filharmoniakoszalinska.pl/wydarzenie/koncert-symfoniczny-10/
LOCATION:Filharmonia Koszalińska im. Stanisława Moniuszki\, Piastowska 2\, Koszalin\, Poland
CATEGORIES:Filharmonia Koszalińska
ATTACH;FMTTYPE=image/jpeg:https://filharmoniakoszalinska.pl/wp-content/uploads/2024/07/6.12.2024.jpg
END:VEVENT
BEGIN:VEVENT
DTSTART;TZID=Europe/Warsaw:20241129T183000
DTEND;TZID=Europe/Warsaw:20241129T203000
DTSTAMP:20260420T023643
CREATED:20240705T092950Z
LAST-MODIFIED:20241002T122507Z
UID:2734-1732905000-1732912200@filharmoniakoszalinska.pl
SUMMARY:koncert symfoniczny
DESCRIPTION:Koncert jest współorganizowany przez Narodowy Instytut Muzyki i Tańca w ramach programu „Muzyk – rezydent”\, finansowanego ze środków Ministra Kultury i Dziedzictwa Narodowego. \ndata: \n29 listopada 2024 (piątek)\, godz. 18:30 \nwykonawcy: \nMassimiliano Caldi – dyrygent \nJoanna Tylkowska-Drożdż – sopran \nPaweł Skałuba – tenor \norkiestra Filharmonii Koszalińskiej \nprogram: \nGiacomo Puccini – Preludio Sinfonico na orkiestrę \nGiacomo Puccini – Aria Lauretty „O mio Babbino Caro” z opery „Gianni Schicchi” \nGiacomo Puccini – Aria „Ch’ella mi creda” z opery „La fanciulla del West” \nGiacomo Puccini – Tregenda na orkiestrę z opery-baletu „Le Villi” \nGiacomo Puccini – Aria Mimi „Sì. Mi chiamano Mimì” z opery „La Bohème” \nGiacomo Puccini – Duet „O soave fanciulla” z „La Bohème” \nGiacomo Puccini – Aria „Nessun dorma” z opery „Turandot” \nGiacomo Puccini – Mattutino na orkiestrę z opery „Tosca” \nGiacomo Puccini – Aria „E lucevan le stelle” z opery „Tosca” \nGiacomo Puccini – Aria Toski „Vissi d`arte\, vissi d`amore” z opery „Tosca” \nGiacomo Puccini – Intermezzo na orkiestrę z dramatu lirycznego „Manon Lescaut” \nGiacomo Puccini – Aria „Addio\, fiorito a sil” z opery „Madame Butterfly” \nGiacomo Puccini – Aria Butterfly „Un bel dì\, vedremo” z opery „Madame Butterfly” \nGiacomo Puccini – Duet „Vogliatemi bene” z opery „Madame Butterfly” \n 
URL:https://filharmoniakoszalinska.pl/wydarzenie/koncert-symfoniczny-9/
LOCATION:Filharmonia Koszalińska im. Stanisława Moniuszki\, Piastowska 2\, Koszalin\, Poland
CATEGORIES:Filharmonia Koszalińska
ATTACH;FMTTYPE=image/jpeg:https://filharmoniakoszalinska.pl/wp-content/uploads/2024/07/Massimiliano-Caldi_cr_cr.jpg
END:VEVENT
BEGIN:VEVENT
DTSTART;TZID=Europe/Warsaw:20241108T183000
DTEND;TZID=Europe/Warsaw:20241108T203000
DTSTAMP:20260420T023643
CREATED:20240705T092053Z
LAST-MODIFIED:20241002T122351Z
UID:2732-1731090600-1731097800@filharmoniakoszalinska.pl
SUMMARY:koncert symfoniczny
DESCRIPTION:Koncert jest współorganizowany przez Narodowy Instytut Muzyki i Tańca w ramach programu „Muzyk – rezydent”\, finansowanego ze środków Ministra Kultury i Dziedzictwa Narodowego. \ndata: \n8 listopada 2024 (piątek)\, godz. 18.30 \nwykonawcy: \nJakub Chrenowicz – dyrygent \nPiotr Sałajczyk – fortepian \norkiestra Filharmonii Koszalińskiej \nprogram: \nStanisław Moniuszko – Uwertura do opery „Hrabina” \nKarol Szymanowski – IV Symfonia koncertująca na fortepian i orkiestrę op. 60 \nAndrzej Panufnik – Sinfonia Rustica
URL:https://filharmoniakoszalinska.pl/wydarzenie/koncert-symfoniczny-8/
LOCATION:Filharmonia Koszalińska im. Stanisława Moniuszki\, Piastowska 2\, Koszalin\, Poland
CATEGORIES:Filharmonia Koszalińska
ATTACH;FMTTYPE=image/jpeg:https://filharmoniakoszalinska.pl/wp-content/uploads/2024/07/8.11.2024.jpg
END:VEVENT
BEGIN:VEVENT
DTSTART;TZID=Europe/Warsaw:20241018T183000
DTEND;TZID=Europe/Warsaw:20241018T203000
DTSTAMP:20260420T023643
CREATED:20240705T091716Z
LAST-MODIFIED:20241002T124027Z
UID:2730-1729276200-1729283400@filharmoniakoszalinska.pl
SUMMARY:koncert symfoniczny
DESCRIPTION:  \ndata: \n18 października 2024 (piątek)\, godz. 18.30 \nwykonawcy: \nŁukasz Korta – dyrygent \nPaulina Sochaj – obój \nArkadiusz Krupa – obój \norkiestra Filharmonii Koszalińskiej \nprogram: \nGeorg Friedrich Händel – „Sinfonia Arrival of the Queen of Sheba” z III aktu oratorium „Salomon” \nGeorg Friedrich Händel – Trio Sonata g-moll cz. III Largo \nAntonio Vivaldi – Koncert obojowy C-dur \nGeorg Friedrich Händel – Concerto „Voli per L’aria” w opracowaniu Andreasa Tarkmanna na obój i orkiestrę \nCarl Philipp Emanuel Bach – Koncert fletowy d-moll Wq. 22 \nAntonio Vivaldi – Koncert C-dur na dwa oboje \nLudwig van Beethoven – IV Symfonia B-dur op. 60
URL:https://filharmoniakoszalinska.pl/wydarzenie/koncert-symfoniczny-7/
LOCATION:Filharmonia Koszalińska im. Stanisława Moniuszki\, Piastowska 2\, Koszalin\, Poland
CATEGORIES:Filharmonia Koszalińska
ATTACH;FMTTYPE=image/jpeg:https://filharmoniakoszalinska.pl/wp-content/uploads/2024/07/Lukasz-Korta.jpg
END:VEVENT
BEGIN:VEVENT
DTSTART;TZID=Europe/Warsaw:20241004T183000
DTEND;TZID=Europe/Warsaw:20241004T203000
DTSTAMP:20260420T023643
CREATED:20240705T090305Z
LAST-MODIFIED:20241002T120430Z
UID:2727-1728066600-1728073800@filharmoniakoszalinska.pl
SUMMARY:koncert symfoniczny
DESCRIPTION:Koncert jest współorganizowany przez Narodowy Instytut Muzyki i Tańca w ramach programu „Muzyk – rezydent”\, finansowanego ze środków Ministra Kultury i Dziedzictwa Narodowego. \ndata: \n4 października 2024 (piątek)\, godz. 18.30 \nwykonawcy: \nJakub Chrenowicz – dyrygent \nAgnieszka Tobik – skrzypce \norkiestra Filharmonii Koszalińskiej \nprogram: \nCamille Saint-Saëns – Taniec śmierci op. 40 \nAstor Piazzolla – „Cztery pory roku w Buenos Aires” (opr. Leonid Desyatnikov) \nFerenc Liszt – Poemat symfoniczny nr 6 „Mazepa” \nZoltán Kodály – „Tańce z Galanty”
URL:https://filharmoniakoszalinska.pl/wydarzenie/koncert-symfoniczny-6/
LOCATION:Filharmonia Koszalińska im. Stanisława Moniuszki\, Piastowska 2\, Koszalin\, Poland
CATEGORIES:Filharmonia Koszalińska
ATTACH;FMTTYPE=image/jpeg:https://filharmoniakoszalinska.pl/wp-content/uploads/2024/07/4.10.2024.jpg
END:VEVENT
BEGIN:VEVENT
DTSTART;TZID=Europe/Warsaw:20240920T183000
DTEND;TZID=Europe/Warsaw:20240920T203000
DTSTAMP:20260420T023643
CREATED:20240705T085542Z
LAST-MODIFIED:20240909T092312Z
UID:2723-1726857000-1726864200@filharmoniakoszalinska.pl
SUMMARY:koncert symfoniczny
DESCRIPTION:data: \n20 września 2024 r. (piątek)\, godz. 18:30 \n  \nwykonawcy: \nJakub Chrenowicz – dyrygent \nIlona Krzywicka – sopran \nAnna Bernacka – mezzosopran \nAdam Sobierajski – tenor \nRemigiusz Łukomski – bas \nChór Politechniki Morskiej w Szczecinie \nSylwia Fabiańczyk-Makuch – przygotowanie chóru \norkiestra Filharmonii Koszalińskiej \n  \nprogram: \nFranz Schubert – III Symfonia D – dur \nLudwig van Beethoven – IX Symfonia d-moll op. 125
URL:https://filharmoniakoszalinska.pl/wydarzenie/koncert-symfoniczny-5/
LOCATION:Filharmonia Koszalińska im. Stanisława Moniuszki\, Piastowska 2\, Koszalin\, Poland
CATEGORIES:Filharmonia Koszalińska
ATTACH;FMTTYPE=image/jpeg:https://filharmoniakoszalinska.pl/wp-content/uploads/2024/07/DSC00197-scaled.jpg
END:VEVENT
END:VCALENDAR