BEGIN:VCALENDAR
VERSION:2.0
PRODID:-//Filharmonia Koszalińska im. Stanisława Moniuszki - ECPv6.15.20//NONSGML v1.0//EN
CALSCALE:GREGORIAN
METHOD:PUBLISH
X-ORIGINAL-URL:https://filharmoniakoszalinska.pl
X-WR-CALDESC:Wydarzenia dla Filharmonia Koszalińska im. Stanisława Moniuszki
REFRESH-INTERVAL;VALUE=DURATION:PT1H
X-Robots-Tag:noindex
X-PUBLISHED-TTL:PT1H
BEGIN:VTIMEZONE
TZID:Europe/Warsaw
BEGIN:DAYLIGHT
TZOFFSETFROM:+0100
TZOFFSETTO:+0200
TZNAME:CEST
DTSTART:20250330T010000
END:DAYLIGHT
BEGIN:STANDARD
TZOFFSETFROM:+0200
TZOFFSETTO:+0100
TZNAME:CET
DTSTART:20251026T010000
END:STANDARD
BEGIN:DAYLIGHT
TZOFFSETFROM:+0100
TZOFFSETTO:+0200
TZNAME:CEST
DTSTART:20260329T010000
END:DAYLIGHT
BEGIN:STANDARD
TZOFFSETFROM:+0200
TZOFFSETTO:+0100
TZNAME:CET
DTSTART:20261025T010000
END:STANDARD
BEGIN:DAYLIGHT
TZOFFSETFROM:+0100
TZOFFSETTO:+0200
TZNAME:CEST
DTSTART:20270328T010000
END:DAYLIGHT
BEGIN:STANDARD
TZOFFSETFROM:+0200
TZOFFSETTO:+0100
TZNAME:CET
DTSTART:20271031T010000
END:STANDARD
END:VTIMEZONE
BEGIN:VEVENT
DTSTART;TZID=Europe/Warsaw:20260116T183000
DTEND;TZID=Europe/Warsaw:20260116T203000
DTSTAMP:20260421T133426
CREATED:20251113T115939Z
LAST-MODIFIED:20251114T120812Z
UID:39546-1768588200-1768595400@filharmoniakoszalinska.pl
SUMMARY:koncert karnawałowy
DESCRIPTION:data:\n16 stycznia 2026 r. (piątek)\, godz. 18.30 \nbilety:\nI STREFA – 55 zł\nII STREFA – 50 zł \nwykonawcy:\nMassimiliano Caldi – dyrygent\norkiestra Filharmonii Koszalińskiej\nAndrzej Zborowski – słowo wiążące \nprogram:\n  \nJohann Strauss (syn) – Uwertura do opery Zemsta nietoperza\, walc Opowieści lasku wiedeńskiego op. 325\, walc Lagunowy z operetki Jedna noc w Wenecji op. 411\, walc miłosny op. 114\, walc Nad pięknym modrym Dunajem\, polka Anna op. 117\, Perpetuum mobile op. 257\, polka Grzmoty i błyskawice op. 324\, polka Lekkie serce op. 319\, galop Bandycki op. 378 \nJosef Strauss – walc Muzyka sfer op. 235 \nJohann Strauss (ojciec) – marsz Radetzky op. 228
URL:https://filharmoniakoszalinska.pl/wydarzenie/koncert-karnawalowy-8/
LOCATION:Filharmonia Koszalińska im. Stanisława Moniuszki\, Piastowska 2\, Koszalin\, Poland
CATEGORIES:Filharmonia Koszalińska
ATTACH;FMTTYPE=image/jpeg:https://filharmoniakoszalinska.pl/wp-content/uploads/2025/11/Massimiliano-Caldi_cr.jpg
END:VEVENT
BEGIN:VEVENT
DTSTART;TZID=Europe/Warsaw:20260117T183000
DTEND;TZID=Europe/Warsaw:20260117T203000
DTSTAMP:20260421T133426
CREATED:20251113T120742Z
LAST-MODIFIED:20251114T120859Z
UID:39552-1768674600-1768681800@filharmoniakoszalinska.pl
SUMMARY:koncert karnawałowy
DESCRIPTION:data:\n17 stycznia 2026 r. (sobota)\, godz. 18.30 \nbilety:\nI STREFA – 55 zł\nII STREFA – 50 zł \nwykonawcy:\nMassimiliano Caldi – dyrygent\norkiestra Filharmonii Koszalińskiej\nAndrzej Zborowski – słowo wiążące \nprogram:\n  \nJohann Strauss (syn) – Uwertura do opery Zemsta nietoperza\, walc Opowieści lasku wiedeńskiego op. 325\, walc Lagunowy z operetki Jedna noc w Wenecji op. 411\, walc miłosny op. 114\, walc Nad pięknym modrym Dunajem\, polka Anna op. 117\, Perpetuum mobile op. 257\, polka Grzmoty i błyskawice op. 324\, polka Lekkie serce op. 319\, galop Bandycki op. 378 \nJosef Strauss – walc Muzyka sfer op. 235 \nJohann Strauss (ojciec) – marsz Radetzky op. 228
URL:https://filharmoniakoszalinska.pl/wydarzenie/koncert-karnawalowy-9/
LOCATION:Filharmonia Koszalińska im. Stanisława Moniuszki\, Piastowska 2\, Koszalin\, Poland
CATEGORIES:Filharmonia Koszalińska
ATTACH;FMTTYPE=image/jpeg:https://filharmoniakoszalinska.pl/wp-content/uploads/2025/11/Massimiliano-Caldi_cr-1.jpg
END:VEVENT
END:VCALENDAR