BEGIN:VCALENDAR
VERSION:2.0
PRODID:-//Filharmonia Koszalińska im. Stanisława Moniuszki - ECPv6.15.20//NONSGML v1.0//EN
CALSCALE:GREGORIAN
METHOD:PUBLISH
X-WR-CALNAME:Filharmonia Koszalińska im. Stanisława Moniuszki
X-ORIGINAL-URL:https://filharmoniakoszalinska.pl
X-WR-CALDESC:Wydarzenia dla Filharmonia Koszalińska im. Stanisława Moniuszki
REFRESH-INTERVAL;VALUE=DURATION:PT1H
X-Robots-Tag:noindex
X-PUBLISHED-TTL:PT1H
BEGIN:VTIMEZONE
TZID:Europe/Warsaw
BEGIN:DAYLIGHT
TZOFFSETFROM:+0100
TZOFFSETTO:+0200
TZNAME:CEST
DTSTART:20240331T010000
END:DAYLIGHT
BEGIN:STANDARD
TZOFFSETFROM:+0200
TZOFFSETTO:+0100
TZNAME:CET
DTSTART:20241027T010000
END:STANDARD
BEGIN:DAYLIGHT
TZOFFSETFROM:+0100
TZOFFSETTO:+0200
TZNAME:CEST
DTSTART:20250330T010000
END:DAYLIGHT
BEGIN:STANDARD
TZOFFSETFROM:+0200
TZOFFSETTO:+0100
TZNAME:CET
DTSTART:20251026T010000
END:STANDARD
BEGIN:DAYLIGHT
TZOFFSETFROM:+0100
TZOFFSETTO:+0200
TZNAME:CEST
DTSTART:20260329T010000
END:DAYLIGHT
BEGIN:STANDARD
TZOFFSETFROM:+0200
TZOFFSETTO:+0100
TZNAME:CET
DTSTART:20261025T010000
END:STANDARD
END:VTIMEZONE
BEGIN:VEVENT
DTSTART;TZID=Europe/Warsaw:20250704T170000
DTEND;TZID=Europe/Warsaw:20250704T180000
DTSTAMP:20260420T142716
CREATED:20250512T112005Z
LAST-MODIFIED:20250704T115109Z
UID:21555-1751648400-1751652000@filharmoniakoszalinska.pl
SUMMARY:„Morricone\, Mancini\, McCartney – magia muzyki miłosnej” - plenerowy koncert kameralny
DESCRIPTION:data: \n4 lipca 2025 (piątek)\, godz. 17.00 \nbilety: \n2 złote za miejsce siedzące \nwykonawcy: \nzespół „Giovane Ensemble”: \nMarcin Orłowski – skrzypce I\, słowo wiążące \nZuzanna Adler – skrzypce II \nAdam Vogelsinger – altówka \nEmilia Jackiewicz – wiolonczela \nJacek Piotr Kujawski – kontrabas\, aranżacje \nprogram: \nKoncert przeniesie słuchaczy w sferę muzyki miłosnej\, nierzadko związanej z muzyką filmową. Znajdą się w nim autorskie opracowania m.in. takich przebojów\, jak „La Califfa” i „Obój Gabriela” Ennio Morricone\, „Hallelujah” Leonarda Cohena\, „Time to say goodbye” Francesco Sartoriego\, „Oblivion” Astora Piazzolli czy „Michelle” z repertuaru zespołu The Beatles. Aranżacji tych kompozycji (i wielu innych zawartych w programie koncertu) dokonał Jacek Piotr Kujawski.
URL:https://filharmoniakoszalinska.pl/wydarzenie/morricone-mancini-mccartney-magia-muzyki-milosnej-plenerowy-koncert-kameralny/
LOCATION:dziedziniec przed Filharmonią Koszalińską\, ul. Piastowska 2\, Koszalin
CATEGORIES:Filharmonia Koszalińska
ATTACH;FMTTYPE=image/jpeg:https://filharmoniakoszalinska.pl/wp-content/uploads/2025/05/PARKAMERKI.jpg
END:VEVENT
BEGIN:VEVENT
DTSTART;TZID=Europe/Warsaw:20250711T170000
DTEND;TZID=Europe/Warsaw:20250711T180000
DTSTAMP:20260420T142716
CREATED:20250512T112429Z
LAST-MODIFIED:20250512T112429Z
UID:21559-1752253200-1752256800@filharmoniakoszalinska.pl
SUMMARY:„Pop na smyczki” - plenerowy koncert kameralny
DESCRIPTION:data: \n11 lipca 2025 (piątek)\, godz. 17.00 \nbilety: \n2 złote za miejsce siedzące \nwykonawcy: \nzespół „FiKa Quartet”: \nSara Kupc – I skrzypce \nWeronika Zielińska – II skrzypce \nRoksana Juszczak – altówka \nKatarzyna Trepiak – wiolonczela \nKarolina Smolarek-Szynal – słowo wiążące \nprogram: \nW programie koncertu znajdą się największe przeboje w wyjątkowych aranżacjach na kwartet smyczkowy. Wśród hitów\, które na zawsze podbiły serca milionów słuchaczy na świecie\, znajdą się niezapomniane utwory ABBY\, Michaela Jacksona\, Madonny czy Lady Gagi. To będzie wspaniała muzyczna podróż pełna emocji\, rytmu i energii. Żywiołowy żeński kwartet z pewnością zaskoczy słuchaczy nowymi brzmieniami i wprawi wszystkich w doskonały nastrój.
URL:https://filharmoniakoszalinska.pl/wydarzenie/pop-na-smyczki-plenerowy-koncert-kameralny/
LOCATION:dziedziniec przed Filharmonią Koszalińską\, ul. Piastowska 2\, Koszalin
CATEGORIES:Filharmonia Koszalińska
ATTACH;FMTTYPE=image/jpeg:https://filharmoniakoszalinska.pl/wp-content/uploads/2025/05/PARKAMERKI.jpg
END:VEVENT
BEGIN:VEVENT
DTSTART;TZID=Europe/Warsaw:20250718T170000
DTEND;TZID=Europe/Warsaw:20250718T180000
DTSTAMP:20260420T142716
CREATED:20250512T112848Z
LAST-MODIFIED:20250512T112849Z
UID:21561-1752858000-1752861600@filharmoniakoszalinska.pl
SUMMARY:„Muzyczna podróż – od baroku po współczesność”- plenerowy koncert kameralny
DESCRIPTION:data: \n18 lipca 2025 (piątek)\, godz. 17.00 \nbilety: \n2 złote za miejsce siedzące \nwykonawcy: \nzespół „Viva la Musica”: \nAdam Vogelsinger – skrzypce \nEwa Jachimowicz-Janik – skrzypce \nWaldemar Brzeski – altówka \nNatalia Wicka – wiolonczela \nAndrzej Zborowski – słowo wiążące \nprogram: \nKoncert zabierze słuchaczy w niezwykłą podróż przez epoki\, style i emocje – od klasycznej elegancji kanonu Johanna Pachelbela po rockową moc zespołu „Metallica”. Będą w nim dźwięki barokowej wiosny\, operowa siła Giacomo Pucciniego i filmowy liryzm Ennio Morricone. Program obejmie zarówno kultowe melodie z kina\, jak i ponadczasowe hity muzyki rozrywkowej. Każdy utwór to osobna opowieść\, łącząca tradycję z nowoczesnością.
URL:https://filharmoniakoszalinska.pl/wydarzenie/muzyczna-podroz-od-baroku-po-wspolczesnosc-plenerowy-koncert-kameralny/
LOCATION:dziedziniec przed Filharmonią Koszalińską\, ul. Piastowska 2\, Koszalin
CATEGORIES:Filharmonia Koszalińska
ATTACH;FMTTYPE=image/jpeg:https://filharmoniakoszalinska.pl/wp-content/uploads/2025/05/PARKAMERKI.jpg
END:VEVENT
BEGIN:VEVENT
DTSTART;TZID=Europe/Warsaw:20250725T170000
DTEND;TZID=Europe/Warsaw:20250725T180000
DTSTAMP:20260420T142716
CREATED:20250512T114044Z
LAST-MODIFIED:20250512T114044Z
UID:21563-1753462800-1753466400@filharmoniakoszalinska.pl
SUMMARY:„Tańce świata”- plenerowy koncert kameralny
DESCRIPTION:data: \n25 lipca 2025 (piątek)\, godz. 17.00 \nbilety: \n2 złote za miejsce siedzące \nwykonawcy: \nzespół „Folk Quartet”: \nZuzanna Adler – skrzypce I \nMichał Juszczak – skrzypce I\, słowo wiążące \nRoksana Juszczak – altówka \nNatalia Wicka – wiolonczela \nprogram: \nBarwne widowisko muzyczne prezentujące różnorodność kulturową i taneczną wielu zakątków świata\, które z pewnością przypadnie do gustu zarówno miłośnikom tańca\, jak i ceniącym bogactwo kultur oraz dźwięków. W programie znajdą się utwory inspirowane tradycyjnymi tańcami z różnych krajów i kontynentów – od ognistych rytmów tanga poprzez elegancki walc wiedeński aż po żywiołowe melodie węgierskie i ludowe tańce słowiańskie.
URL:https://filharmoniakoszalinska.pl/wydarzenie/tance-swiata-plenerowy-koncert-kameralny/
LOCATION:dziedziniec przed Filharmonią Koszalińską\, ul. Piastowska 2\, Koszalin
CATEGORIES:Filharmonia Koszalińska
ATTACH;FMTTYPE=image/jpeg:https://filharmoniakoszalinska.pl/wp-content/uploads/2025/05/PARKAMERKI.jpg
END:VEVENT
END:VCALENDAR